BEGIN:VCALENDAR
VERSION:2.0
PRODID:-//Heat Treat Today - ECPv6.15.20//NONSGML v1.0//EN
CALSCALE:GREGORIAN
METHOD:PUBLISH
X-WR-CALNAME:Heat Treat Today
X-ORIGINAL-URL:https://www.heattreattoday.com
X-WR-CALDESC:Events for Heat Treat Today
REFRESH-INTERVAL;VALUE=DURATION:PT1H
X-Robots-Tag:noindex
X-PUBLISHED-TTL:PT1H
BEGIN:VTIMEZONE
TZID:UTC
BEGIN:STANDARD
TZOFFSETFROM:+0000
TZOFFSETTO:+0000
TZNAME:UTC
DTSTART:20230101T000000
END:STANDARD
END:VTIMEZONE
BEGIN:VTIMEZONE
TZID:America/New_York
BEGIN:DAYLIGHT
TZOFFSETFROM:-0500
TZOFFSETTO:-0400
TZNAME:EDT
DTSTART:20230312T070000
END:DAYLIGHT
BEGIN:STANDARD
TZOFFSETFROM:-0400
TZOFFSETTO:-0500
TZNAME:EST
DTSTART:20231105T060000
END:STANDARD
BEGIN:DAYLIGHT
TZOFFSETFROM:-0500
TZOFFSETTO:-0400
TZNAME:EDT
DTSTART:20240310T070000
END:DAYLIGHT
BEGIN:STANDARD
TZOFFSETFROM:-0400
TZOFFSETTO:-0500
TZNAME:EST
DTSTART:20241103T060000
END:STANDARD
BEGIN:DAYLIGHT
TZOFFSETFROM:-0500
TZOFFSETTO:-0400
TZNAME:EDT
DTSTART:20250309T070000
END:DAYLIGHT
BEGIN:STANDARD
TZOFFSETFROM:-0400
TZOFFSETTO:-0500
TZNAME:EST
DTSTART:20251102T060000
END:STANDARD
END:VTIMEZONE
BEGIN:VEVENT
DTSTART;VALUE=DATE:20241015
DTEND;VALUE=DATE:20241018
DTSTAMP:20260421T064512
CREATED:20231111T015210Z
LAST-MODIFIED:20231111T015210Z
UID:46679-1728950400-1729209599@www.heattreattoday.com
SUMMARY:FABTECH 2024
DESCRIPTION:FABTECH heads to Orange County Convention Center\, October 15-17\, 2024\, and provides a convenient ‘one-stop shop’ venue where you can meet with 1\,500+ world-class suppliers\, discover innovative solutions\, and find the tools to improve productivity and increase profits. There is no better opportunity to network\, share knowledge and explore the latest technology. Gain insights into industry trends that will help you prepare for what’s ahead\, all here in one place.
URL:https://www.heattreattoday.com/event/fabtech-2024/
LOCATION:Orange County Convention Center\, 9800 International Dr\, Orlando\, FL\, 32819\, United States
END:VEVENT
BEGIN:VEVENT
DTSTART;VALUE=DATE:20241016
DTEND;VALUE=DATE:20241018
DTSTAMP:20260421T064512
CREATED:20241003T121436Z
LAST-MODIFIED:20241003T121436Z
UID:59146-1729036800-1729209599@www.heattreattoday.com
SUMMARY:Design-2-Part New England 2024
DESCRIPTION:Design-2-Part trade shows are the best way to find new suppliers for parts and manufacturing services.
URL:https://www.heattreattoday.com/event/design-2-part-new-england-2024/
LOCATION:Royal Plaza Trade Center\, 181 Boston Post Road W\, Marlborough\, MA\, 01752\, United States
END:VEVENT
END:VCALENDAR