BEGIN:VCALENDAR
VERSION:2.0
PRODID:-//Heat Treat Today - ECPv6.15.20//NONSGML v1.0//EN
CALSCALE:GREGORIAN
METHOD:PUBLISH
X-WR-CALNAME:Heat Treat Today
X-ORIGINAL-URL:https://www.heattreattoday.com
X-WR-CALDESC:Events for Heat Treat Today
REFRESH-INTERVAL;VALUE=DURATION:PT1H
X-Robots-Tag:noindex
X-PUBLISHED-TTL:PT1H
BEGIN:VTIMEZONE
TZID:UTC
BEGIN:STANDARD
TZOFFSETFROM:+0000
TZOFFSETTO:+0000
TZNAME:UTC
DTSTART:20230101T000000
END:STANDARD
END:VTIMEZONE
BEGIN:VTIMEZONE
TZID:America/New_York
BEGIN:DAYLIGHT
TZOFFSETFROM:-0500
TZOFFSETTO:-0400
TZNAME:EDT
DTSTART:20230312T070000
END:DAYLIGHT
BEGIN:STANDARD
TZOFFSETFROM:-0400
TZOFFSETTO:-0500
TZNAME:EST
DTSTART:20231105T060000
END:STANDARD
BEGIN:DAYLIGHT
TZOFFSETFROM:-0500
TZOFFSETTO:-0400
TZNAME:EDT
DTSTART:20240310T070000
END:DAYLIGHT
BEGIN:STANDARD
TZOFFSETFROM:-0400
TZOFFSETTO:-0500
TZNAME:EST
DTSTART:20241103T060000
END:STANDARD
BEGIN:DAYLIGHT
TZOFFSETFROM:-0500
TZOFFSETTO:-0400
TZNAME:EDT
DTSTART:20250309T070000
END:DAYLIGHT
BEGIN:STANDARD
TZOFFSETFROM:-0400
TZOFFSETTO:-0500
TZNAME:EST
DTSTART:20251102T060000
END:STANDARD
END:VTIMEZONE
BEGIN:VEVENT
DTSTART;VALUE=DATE:20240310
DTEND;VALUE=DATE:20240315
DTSTAMP:20260422T013311
CREATED:20231110T223946Z
LAST-MODIFIED:20231110T223946Z
UID:46562-1710028800-1710460799@www.heattreattoday.com
SUMMARY:Additive Manufacturing Users Group 2024 (AMUG)
DESCRIPTION:The Additive Manufacturing Users Group (AMUG) is an all-encompassing technology users group dedicated to the advancement of additive manufacturing technology.\n \nThe AMUG Conference brings together engineers\, designers\, managers\, and educators from around the world to share expertise\, best practices\, challenges\, and application developments in additive manufacturing. \nThe users group is dedicated and open to the owners and operators of commercially available additive manufacturing and 3D printing technology.  In addition to education and training sessions\, attendees will explore the latest products and solutions offered to the industry.
URL:https://www.heattreattoday.com/event/additive-manufacturing-users-group-2024-amug/
LOCATION:Hilton Chicago\, 720 South Michigan Avenue\, Chicago\, IL\, 60605\, United States
END:VEVENT
BEGIN:VEVENT
DTSTART;VALUE=DATE:20240312
DTEND;VALUE=DATE:20240315
DTSTAMP:20260422T013311
CREATED:20231110T224319Z
LAST-MODIFIED:20231110T224319Z
UID:46569-1710201600-1710460799@www.heattreattoday.com
SUMMARY:Electrification 2024 International Conference & Exhibition
DESCRIPTION:EPRI is hosting the Electrification 2024 International Conference & Exposition\, featuring immersive pre-conference workshops\, compelling agenda sessions\, a collaborative Exposition Hall and multiple networking functions. Electrification 2024 will bring together thought leaders and innovators from across the electrification spectrum\, providing you with a wide range of opportunities for education and collaboration to help advance your organization’s initiatives. Reunite with business\, policy\, government and academic stakeholders\, as well as vendors and other partners\, for an in-depth exploration of how we can work together to meet deep decarbonization targets through a customer-focused clean energy transition. We look forward to Accelerating Together for an Electrified Future!
URL:https://www.heattreattoday.com/event/electrification-2024-international-conference-exhibition/
LOCATION:Savannah Convention Center\, 1 International Drive\, Savannah\, Georgia\, 31421\, United States
END:VEVENT
BEGIN:VEVENT
DTSTART;VALUE=DATE:20240312
DTEND;VALUE=DATE:20240315
DTSTAMP:20260422T013311
CREATED:20240123T120133Z
LAST-MODIFIED:20240123T120133Z
UID:52447-1710201600-1710460799@www.heattreattoday.com
SUMMARY:AeroMat 2024
DESCRIPTION:Implementation of new materials and technologies into future designs and legacy platforms will leverage improved performance\, cost and sustainability of aerospace structures and engines. The 2024 technical program will focus on innovative aerospace material & process developments\, with keynotes and panel to feature research and development of aerospace materials\, and collaborations with the global materials community. \nOnce again\, AeroMat will co-locate with AeroTech 2024.
URL:https://www.heattreattoday.com/event/aeromat-2024/
LOCATION:Charlotte Convention Center\, 501 S. College St.\, Charlotte\, NC\, 28202\, United States
END:VEVENT
END:VCALENDAR