BEGIN:VCALENDAR
VERSION:2.0
PRODID:-//Heat Treat Today - ECPv6.15.20//NONSGML v1.0//EN
CALSCALE:GREGORIAN
METHOD:PUBLISH
X-ORIGINAL-URL:https://www.heattreattoday.com
X-WR-CALDESC:Events for Heat Treat Today
REFRESH-INTERVAL;VALUE=DURATION:PT1H
X-Robots-Tag:noindex
X-PUBLISHED-TTL:PT1H
BEGIN:VTIMEZONE
TZID:UTC
BEGIN:STANDARD
TZOFFSETFROM:+0000
TZOFFSETTO:+0000
TZNAME:UTC
DTSTART:20230101T000000
END:STANDARD
END:VTIMEZONE
BEGIN:VEVENT
DTSTART;VALUE=DATE:20240310
DTEND;VALUE=DATE:20240315
DTSTAMP:20260421T212930
CREATED:20231110T223946Z
LAST-MODIFIED:20231110T223946Z
UID:46562-1710028800-1710460799@www.heattreattoday.com
SUMMARY:Additive Manufacturing Users Group 2024 (AMUG)
DESCRIPTION:The Additive Manufacturing Users Group (AMUG) is an all-encompassing technology users group dedicated to the advancement of additive manufacturing technology.\n \nThe AMUG Conference brings together engineers\, designers\, managers\, and educators from around the world to share expertise\, best practices\, challenges\, and application developments in additive manufacturing. \nThe users group is dedicated and open to the owners and operators of commercially available additive manufacturing and 3D printing technology.  In addition to education and training sessions\, attendees will explore the latest products and solutions offered to the industry.
URL:https://www.heattreattoday.com/event/additive-manufacturing-users-group-2024-amug/
LOCATION:Hilton Chicago\, 720 South Michigan Avenue\, Chicago\, IL\, 60605\, United States
END:VEVENT
END:VCALENDAR